BEGIN:VCALENDAR
VERSION:2.0
PRODID:-//pantaleonproject.ch - ECPv6.5.1.5//NONSGML v1.0//EN
CALSCALE:GREGORIAN
METHOD:PUBLISH
X-WR-CALNAME:pantaleonproject.ch
X-ORIGINAL-URL:https://pantaleonproject.ch
X-WR-CALDESC:Veranstaltungen für pantaleonproject.ch
REFRESH-INTERVAL;VALUE=DURATION:PT1H
X-Robots-Tag:noindex
X-PUBLISHED-TTL:PT1H
BEGIN:VTIMEZONE
TZID:Europe/Berlin
BEGIN:DAYLIGHT
TZOFFSETFROM:+0100
TZOFFSETTO:+0200
TZNAME:CEST
DTSTART:20250330T010000
END:DAYLIGHT
BEGIN:STANDARD
TZOFFSETFROM:+0200
TZOFFSETTO:+0100
TZNAME:CET
DTSTART:20251026T010000
END:STANDARD
END:VTIMEZONE
BEGIN:VEVENT
DTSTART;TZID=Europe/Berlin:20250112T170000
DTEND;TZID=Europe/Berlin:20250112T183000
DTSTAMP:20260420T052324
CREATED:20241211T065250Z
LAST-MODIFIED:20241211T065250Z
UID:788-1736701200-1736706600@pantaleonproject.ch
SUMMARY:Tango Misterioso
DESCRIPTION:Die etwas andere Konzertreihe auf dem Bruderholz.\nZum Jahresbeginn etwas Aussergewöhnliches:\n«Tango Nuevo» in der Titus Kirche mit dem «PantaLeón Project» und Christian Sutter.\nEine musikalisch-literarische Milonga der besonderen Art. \n«Tango misterioso» \n«Gracias quiero dar por la música\, misteriosa forma del tiempo.»\n«Dank will ich sagen für die Musik\, mysteriöse Gestalt der Zeit.»\nJorge Luis Borges (1899–1986)\nZeit! – Ein Thema\, das den grossen argentinischen Schriftsteller J. L. Borges zeitlebens\nbeschäftigt. 1978 hält er an der Universidad de Belgrano in Buenos Aires einen Vortrag über\ndas Wesen der Zeit. Als Ausgangspunkt seiner labyrinthischen Gedankengänge dient ihm die\nMusik! Neben seinem immensen literarischen Oeuvre schreibt Borges auch Milongas. Einige\ndavon vertont Astor Piazzolla (1921–1992). Auch in seinen Tango-Gedichten bringt Borges\nimmer wieder die Themen Musik und Zeit miteinander in Verbindung: «Der Mensch\, der\nStaub und Zeit ist\, dauert kürzer denn leichte Melodie\, die nichts als Zeit ist.»\nMit dem musikalisch-literarischen Programm «Tango misterioso» entführt uns das junge\nTango-Ensemble «PantaLeón Project»\, das in der originalen instrumentalen Besetzung von\nAstor Piazzollas Quintett auftritt\, in die Welt des «Tango Nuevo».\nDazu liest Christian Sutter tiefgründige Texte von Jorge Luis Borges. Nicht verpassen!
URL:https://pantaleonproject.ch/event/tango-misterioso/
LOCATION:Tituskirche Basel\, Im Tiefen Boden 75\, Basel\, 4059
ATTACH;FMTTYPE=image/jpeg:https://pantaleonproject.ch/wp-content/uploads/2024/02/b41641_8afab57b9b9d4691ba0a185e35ec20f3mv2.jpg
END:VEVENT
END:VCALENDAR