BEGIN:VCALENDAR
VERSION:2.0
PRODID:-//pantaleonproject.ch - ECPv6.5.1.5//NONSGML v1.0//EN
CALSCALE:GREGORIAN
METHOD:PUBLISH
X-WR-CALNAME:pantaleonproject.ch
X-ORIGINAL-URL:https://pantaleonproject.ch
X-WR-CALDESC:Veranstaltungen für pantaleonproject.ch
REFRESH-INTERVAL;VALUE=DURATION:PT1H
X-Robots-Tag:noindex
X-PUBLISHED-TTL:PT1H
BEGIN:VTIMEZONE
TZID:Europe/Berlin
BEGIN:DAYLIGHT
TZOFFSETFROM:+0100
TZOFFSETTO:+0200
TZNAME:CEST
DTSTART:20240331T010000
END:DAYLIGHT
BEGIN:STANDARD
TZOFFSETFROM:+0200
TZOFFSETTO:+0100
TZNAME:CET
DTSTART:20241027T010000
END:STANDARD
END:VTIMEZONE
BEGIN:VEVENT
DTSTART;TZID=Europe/Berlin:20241108T193000
DTEND;TZID=Europe/Berlin:20241108T210000
DTSTAMP:20260420T071153
CREATED:20240328T120236Z
LAST-MODIFIED:20240831T102608Z
UID:457-1731094200-1731099600@pantaleonproject.ch
SUMMARY:Die 4 Jahreszeiten von Astor Piazzolla
DESCRIPTION:Astor Piazzollas Musik begeistert\, wohin man auch kommt. Mit innigen Emotionen und mitreissendem Groove lässt seine Musik die Zeit vergessen. \nDer unglaubliche Groove\, die Vielschichtigkeit der Musik\, die Komposition an sich ist in ihrer Originalfassung viel reichhaltiger und kompromissloser – in Sanftheit\, Sehnsucht\, Härte und Brüchen\, ist sie eine schmerzliche wie innige Liebeserklärung an die Heimatstadt Buenos Aires und den Wandel des Lebens. \nLas Estaciones Porteñas – eine Reise durch die argentinischen Jahreszeiten\, in der kaum gehörten Originalfassung für das Tango Nuevo Quintett (Band.\, E-Git.\, Kb.\, Pno.\, Vl.). \nTickets kaufen
URL:https://pantaleonproject.ch/event/die-4-jahreszeiten-von-astor-piazzolla/
LOCATION:Claque Keller Baden\, Kronengasse 4\, Baden\, 5400
ATTACH;FMTTYPE=image/jpeg:https://pantaleonproject.ch/wp-content/uploads/2024/03/4jahreszeiten.jpg
END:VEVENT
BEGIN:VEVENT
DTSTART;TZID=Europe/Berlin:20241109T193000
DTEND;TZID=Europe/Berlin:20241109T210000
DTSTAMP:20260420T071153
CREATED:20240328T123841Z
LAST-MODIFIED:20240606T105212Z
UID:464-1731180600-1731186000@pantaleonproject.ch
SUMMARY:Die 4 Jahreszeiten von Astor Piazzolla
DESCRIPTION:Astor Piazzollas Musik begeistert\, wohin man auch kommt. Mit innigen Emotionen und mitreissendem Groove lässt seine Musik die Zeit vergessen. \nDer unglaubliche Groove\, die Vielschichtigkeit der Musik\, die Komposition an sich ist in ihrer Originalfassung viel reichhaltiger und kompromissloser – in Sanftheit\, Sehnsucht\, Härte und Brüchen\, ist sie eine schmerzliche wie innige Liebeserklärung an die Heimatstadt Buenos Aires und den Wandel des Lebens. \nLas Estaciones Porteñas – eine Reise durch die argentinischen Jahreszeiten\, in der kaum gehörten Originalfassung für das Tango Nuevo Quintett (Band.\, E-Git.\, Kb.\, Pno.\, Vl.). \nTickets kaufen
URL:https://pantaleonproject.ch/event/die-4-jahreszeiten-von-astor-piazzolla-2/
LOCATION:Zwinglihaus Kleiner Saal\, Gundeldingerstrasse 370\, Basel\, 4053\, Schweiz
ATTACH;FMTTYPE=image/jpeg:https://pantaleonproject.ch/wp-content/uploads/2024/03/4jahreszeiten.jpg
END:VEVENT
BEGIN:VEVENT
DTSTART;TZID=Europe/Berlin:20241110T170000
DTEND;TZID=Europe/Berlin:20241110T183000
DTSTAMP:20260420T071153
CREATED:20240328T124050Z
LAST-MODIFIED:20240606T105202Z
UID:467-1731258000-1731263400@pantaleonproject.ch
SUMMARY:Die 4 Jahreszeiten von Astor Piazzolla
DESCRIPTION:Astor Piazzollas Musik begeistert\, wohin man auch kommt. Mit innigen Emotionen und mitreissendem Groove lässt seine Musik die Zeit vergessen. \nDer unglaubliche Groove\, die Vielschichtigkeit der Musik\, die Komposition an sich ist in ihrer Originalfassung viel reichhaltiger und kompromissloser – in Sanftheit\, Sehnsucht\, Härte und Brüchen\, ist sie eine schmerzliche wie innige Liebeserklärung an die Heimatstadt Buenos Aires und den Wandel des Lebens. \nLas Estaciones Porteñas – eine Reise durch die argentinischen Jahreszeiten\, in der kaum gehörten Originalfassung für das Tango Nuevo Quintett (Band.\, E-Git.\, Kb.\, Pno.\, Vl.). \nTickets kaufen
URL:https://pantaleonproject.ch/event/die-4-jahreszeiten-von-astor-piazzolla-3/
LOCATION:Altes Stadthaus\, Marktgasse 53\, Winterthur\, 8400\, Schweiz
ATTACH;FMTTYPE=image/jpeg:https://pantaleonproject.ch/wp-content/uploads/2024/03/4jahreszeiten.jpg
END:VEVENT
END:VCALENDAR